BEGIN:VCALENDAR
VERSION:2.0
PRODID:-//Torquay International School - ECPv5.14.1//NONSGML v1.0//EN
CALSCALE:GREGORIAN
METHOD:PUBLISH
X-WR-CALNAME:Torquay International School
X-ORIGINAL-URL:https://ihtorquay.uk
X-WR-CALDESC:Events for Torquay International School
BEGIN:VTIMEZONE
TZID:Europe/London
BEGIN:DAYLIGHT
TZOFFSETFROM:+0000
TZOFFSETTO:+0100
TZNAME:BST
DTSTART:20190331T010000
END:DAYLIGHT
BEGIN:STANDARD
TZOFFSETFROM:+0100
TZOFFSETTO:+0000
TZNAME:GMT
DTSTART:20191027T010000
END:STANDARD
END:VTIMEZONE
BEGIN:VEVENT
DTSTART;TZID=Europe/London:20191109T083000
DTEND;TZID=Europe/London:20191109T180000
DTSTAMP:20260421T112502
CREATED:20191014T131855Z
LAST-MODIFIED:20191129T095643Z
UID:2035-1573288200-1573322400@ihtorquay.uk
SUMMARY:Bristol & SS Great Britain
DESCRIPTION:Visit the vast city of Bristol to see the Clifton Suspension Bridge and visit the SS Great Britain ship and museum. \nYou’ll also have plenty of time to explore the city’s modern shopping district and walk the streets lined with world famous street art. \n  \nThe cost of this trip includes admission onto the ship\, transport\, and a guided tour of the city.
URL:https://ihtorquay.uk/event/bristol-ss-great-britain-21/
LOCATION:Oriental Touch\, 21 Ash Hill Road\, Torquay\, TQ1 3JF\, United Kingdom
ATTACH;FMTTYPE=image/jpeg:https://ihtorquay.uk/wp-content/uploads/2018/07/nathan-riley-340629-unsplash.jpg
END:VEVENT
END:VCALENDAR