BEGIN:VCALENDAR
VERSION:2.0
PRODID:-//Torquay International School - ECPv5.14.1//NONSGML v1.0//EN
CALSCALE:GREGORIAN
METHOD:PUBLISH
X-WR-CALNAME:Torquay International School
X-ORIGINAL-URL:https://ihtorquay.uk
X-WR-CALDESC:Events for Torquay International School
BEGIN:VTIMEZONE
TZID:Europe/London
BEGIN:DAYLIGHT
TZOFFSETFROM:+0000
TZOFFSETTO:+0100
TZNAME:BST
DTSTART:20190331T010000
END:DAYLIGHT
BEGIN:STANDARD
TZOFFSETFROM:+0100
TZOFFSETTO:+0000
TZNAME:GMT
DTSTART:20191027T010000
END:STANDARD
END:VTIMEZONE
BEGIN:VEVENT
DTSTART;TZID=Europe/London:20191204T133000
DTEND;TZID=Europe/London:20191204T163000
DTSTAMP:20260425T133644
CREATED:20191022T121050Z
LAST-MODIFIED:20191022T121050Z
UID:2080-1575466200-1575477000@ihtorquay.uk
SUMMARY:Bygones - Victorian Christmas
DESCRIPTION:Bygones is a family-friendly attraction with 3 floors of British history (Victorians\, Railways\, Fifties)\, nostalgia\, authentic curiosities\, interactive displays. \nImmerse yourself in a genuine experience of the past. From the cobbled floor to the original signs and shops brimming with products\, there’s so much to see at Bygones \nFrom December 1st Bygones is transformed for a traditional Victorian Christmas\, with a real 12ft Christmas tree\, St Nicholas’ workshop and the man himself will be making an appearance on special dates \n  \n 
URL:https://ihtorquay.uk/event/bygones-victorian-christmas-2/
LOCATION:Student Lounge\, 15 St Marychurch Road (Torquay International School)\, Torquay\, United Kingdom
ATTACH;FMTTYPE=image/jpeg:https://ihtorquay.uk/wp-content/uploads/2019/10/bygons.jpg
END:VEVENT
END:VCALENDAR