BEGIN:VCALENDAR
VERSION:2.0
PRODID:-//Torquay International School - ECPv5.14.1//NONSGML v1.0//EN
CALSCALE:GREGORIAN
METHOD:PUBLISH
X-WR-CALNAME:Torquay International School
X-ORIGINAL-URL:https://ihtorquay.uk
X-WR-CALDESC:Events for Torquay International School
BEGIN:VTIMEZONE
TZID:Europe/London
BEGIN:DAYLIGHT
TZOFFSETFROM:+0000
TZOFFSETTO:+0100
TZNAME:BST
DTSTART:20180325T010000
END:DAYLIGHT
BEGIN:STANDARD
TZOFFSETFROM:+0100
TZOFFSETTO:+0000
TZNAME:GMT
DTSTART:20181028T010000
END:STANDARD
END:VTIMEZONE
BEGIN:VEVENT
DTSTART;TZID=Europe/London:20180925T130000
DTEND;TZID=Europe/London:20180925T173000
DTSTAMP:20260420T125054
CREATED:20180905T130422Z
LAST-MODIFIED:20180905T130422Z
UID:1087-1537880400-1537896600@ihtorquay.uk
SUMMARY:Coleton Fishacre
DESCRIPTION:Travel back in time to the Jazz Age at the holiday home of the D’Oyly Carte family. Now owned by the National Trust\, you can lose yourself in the magical 12-hectare (30-acre) garden: viewpoints give enticing glimpses out to sea\, paths weave through glades past tranquil ponds\, and tender plants from the Mediterranean\, South Africa and New Zealand thrive in the moist and sheltered valley. This most evocative of holiday homes\, built in the Arts and Crafts style\, is imbued with 1920s’ elegance. A light\, joyful atmosphere fills the rooms and music plays\, echoing the family’s Gilbert and Sullivan connections.
URL:https://ihtorquay.uk/event/coleton-fishacre-3-2/
LOCATION:Student Lounge\, 15 St Marychurch Road (Torquay International School)\, Torquay\, United Kingdom
ATTACH;FMTTYPE=image/jpeg:https://ihtorquay.uk/wp-content/uploads/2018/03/geograph-928013-by-Kate-Jewell.jpg
END:VEVENT
END:VCALENDAR