BEGIN:VCALENDAR
VERSION:2.0
PRODID:-//Torquay International School - ECPv5.14.1//NONSGML v1.0//EN
CALSCALE:GREGORIAN
METHOD:PUBLISH
X-WR-CALNAME:Torquay International School
X-ORIGINAL-URL:https://ihtorquay.uk
X-WR-CALDESC:Events for Torquay International School
BEGIN:VTIMEZONE
TZID:Europe/London
BEGIN:DAYLIGHT
TZOFFSETFROM:+0000
TZOFFSETTO:+0100
TZNAME:BST
DTSTART:20230326T010000
END:DAYLIGHT
BEGIN:STANDARD
TZOFFSETFROM:+0100
TZOFFSETTO:+0000
TZNAME:GMT
DTSTART:20231029T010000
END:STANDARD
END:VTIMEZONE
BEGIN:VEVENT
DTSTART;TZID=Europe/London:20230711T193000
DTEND;TZID=Europe/London:20230711T230000
DTSTAMP:20260421T111733
CREATED:20220817T083738Z
LAST-MODIFIED:20230601T084852Z
UID:3903-1689103800-1689116400@ihtorquay.uk
SUMMARY:Pub Evening
DESCRIPTION:A guided tour to a selection of pubs in the heart of Torbay. This trip is a fantastic opportunity to practice your English in a relaxed setting! Set off with your guide and fellow students on an evening of relaxation and fun. \nDrinks are not included\, but your guide will visit at least two pubs and make sure you are taken back to your homestay at the end of the evening.
URL:https://ihtorquay.uk/event/country-pub-evening-19-2-2-2-2-2-2-2-2/
ATTACH;FMTTYPE=image/jpeg:https://ihtorquay.uk/wp-content/uploads/2022/08/istockphoto-1091469178-612x612-1.jpg
END:VEVENT
END:VCALENDAR