BEGIN:VCALENDAR
VERSION:2.0
PRODID:-//Torquay International School - ECPv5.14.1//NONSGML v1.0//EN
CALSCALE:GREGORIAN
METHOD:PUBLISH
X-WR-CALNAME:Torquay International School
X-ORIGINAL-URL:https://ihtorquay.uk
X-WR-CALDESC:Events for Torquay International School
BEGIN:VTIMEZONE
TZID:Europe/London
BEGIN:DAYLIGHT
TZOFFSETFROM:+0000
TZOFFSETTO:+0100
TZNAME:BST
DTSTART:20180325T010000
END:DAYLIGHT
BEGIN:STANDARD
TZOFFSETFROM:+0100
TZOFFSETTO:+0000
TZNAME:GMT
DTSTART:20181028T010000
END:STANDARD
END:VTIMEZONE
BEGIN:VEVENT
DTSTART;TZID=Europe/London:20180907T130000
DTEND;TZID=Europe/London:20180907T173000
DTSTAMP:20260420T143852
CREATED:20180814T103411Z
LAST-MODIFIED:20180814T103411Z
UID:1049-1536325200-1536341400@ihtorquay.uk
SUMMARY:Greenway House
DESCRIPTION:The holiday home of internationally famous crime writer\, Agatha Christie.\nExplore the house\, packed with items that once belonged to the Christie family. Then walk through the beautiful gardens overlooking the River Dart
URL:https://ihtorquay.uk/event/greenway-house-2-2/
LOCATION:Student Lounge\, 15 St Marychurch Road (Torquay International School)\, Torquay\, United Kingdom
ATTACH;FMTTYPE=image/jpeg:https://ihtorquay.uk/wp-content/uploads/2018/03/Greenway_-_the_holiday_home_of_Agatha_Christie_-_geograph.org_.uk_-_1447267.jpg
END:VEVENT
END:VCALENDAR