BEGIN:VCALENDAR
VERSION:2.0
PRODID:-//Torquay International School - ECPv5.14.1//NONSGML v1.0//EN
CALSCALE:GREGORIAN
METHOD:PUBLISH
X-WR-CALNAME:Torquay International School
X-ORIGINAL-URL:https://ihtorquay.uk
X-WR-CALDESC:Events for Torquay International School
BEGIN:VTIMEZONE
TZID:Europe/London
BEGIN:DAYLIGHT
TZOFFSETFROM:+0000
TZOFFSETTO:+0100
TZNAME:BST
DTSTART:20220327T010000
END:DAYLIGHT
BEGIN:STANDARD
TZOFFSETFROM:+0100
TZOFFSETTO:+0000
TZNAME:GMT
DTSTART:20221030T010000
END:STANDARD
END:VTIMEZONE
BEGIN:VEVENT
DTSTART;TZID=Europe/London:20221125T133000
DTEND;TZID=Europe/London:20221125T170000
DTSTAMP:20260421T174619
CREATED:20221026T125507Z
LAST-MODIFIED:20221121T141808Z
UID:4070-1669383000-1669395600@ihtorquay.uk
SUMMARY:Haldon Forest Park - Walking Trail
DESCRIPTION:3\,500 acres of woodland just 30 minutes from International House Torquay\n\n\nWhether you want a quiet gentle stroll or an exhilarating mountain biking experience\, there’s something for you at Haldon Forest Park. \nHaldon Forest offers a range of walking and cycling trails to suit all abilities\, as well as a pump loop\, cycle skills area\, orienteering courses and so much more just waiting to be discovered.
URL:https://ihtorquay.uk/event/haldon-forest-park-walking-trail-2/
LOCATION:IH Torquay\, International House Torquay\, Torquay\, Devon\, TQ1 3HY\, United Kingdom
ATTACH;FMTTYPE=image/webp:https://ihtorquay.uk/wp-content/uploads/2022/09/file.webp
END:VEVENT
END:VCALENDAR