BEGIN:VCALENDAR
VERSION:2.0
PRODID:-//Torquay International School - ECPv5.14.1//NONSGML v1.0//EN
CALSCALE:GREGORIAN
METHOD:PUBLISH
X-WR-CALNAME:Torquay International School
X-ORIGINAL-URL:https://ihtorquay.uk
X-WR-CALDESC:Events for Torquay International School
BEGIN:VTIMEZONE
TZID:Europe/London
BEGIN:DAYLIGHT
TZOFFSETFROM:+0000
TZOFFSETTO:+0100
TZNAME:BST
DTSTART:20180325T010000
END:DAYLIGHT
BEGIN:STANDARD
TZOFFSETFROM:+0100
TZOFFSETTO:+0000
TZNAME:GMT
DTSTART:20181028T010000
END:STANDARD
END:VTIMEZONE
BEGIN:VEVENT
DTSTART;TZID=Europe/London:20180706T133000
DTEND;TZID=Europe/London:20180706T160000
DTSTAMP:20260424T142442
CREATED:20180614T085943Z
LAST-MODIFIED:20180614T085943Z
UID:923-1530883800-1530892800@ihtorquay.uk
SUMMARY:Introduction to stand up paddle boarding
DESCRIPTION:A 1.5 hour lesson which will take place on the fabulous waters around Torbay and the English Riviera Global Geopark where we will ensure that your experience is rewarding\, safe and lots of fun. Along the way we can teach you all about water safety\, tides etc. and the history of SUP \nGood technique is the key to developing your paddling so you can get the most out of your experiences. With a fully qualified instructor you will make quick progress\, learning all the skills necessary to “stand on your own two feet!”
URL:https://ihtorquay.uk/event/introduction-to-stand-up-paddle-boarding/
LOCATION:Student Lounge\, 15 St Marychurch Road (Torquay International School)\, Torquay\, United Kingdom
ATTACH;FMTTYPE=image/jpeg:https://ihtorquay.uk/wp-content/uploads/2018/06/olivier-fahrni-419385-unsplash.jpg
END:VEVENT
END:VCALENDAR