BEGIN:VCALENDAR
VERSION:2.0
PRODID:-//Torquay International School - ECPv5.14.1//NONSGML v1.0//EN
CALSCALE:GREGORIAN
METHOD:PUBLISH
X-WR-CALNAME:Torquay International School
X-ORIGINAL-URL:https://ihtorquay.uk
X-WR-CALDESC:Events for Torquay International School
BEGIN:VTIMEZONE
TZID:Europe/London
BEGIN:DAYLIGHT
TZOFFSETFROM:+0000
TZOFFSETTO:+0100
TZNAME:BST
DTSTART:20240331T010000
END:DAYLIGHT
BEGIN:STANDARD
TZOFFSETFROM:+0100
TZOFFSETTO:+0000
TZNAME:GMT
DTSTART:20241027T010000
END:STANDARD
END:VTIMEZONE
BEGIN:VEVENT
DTSTART;TZID=Europe/London:20240328T140000
DTEND;TZID=Europe/London:20240328T170000
DTSTAMP:20260421T212011
CREATED:20181002T103313Z
LAST-MODIFIED:20240205T103750Z
UID:1121-1711634400-1711645200@ihtorquay.uk
SUMMARY:Kents Cavern
DESCRIPTION:Follow a guided tour of one of the most important Stone Age sites in Europe and one of Britain’s best show caves! As you enter the cave you’ll feel the temperature at a constant 14c\, but don’t worry\, all paths are well lit and surprisingly spacious. After time for hot drink in the café we will walk down to Hope’s Nose a well-known local landmark overlooking Torbay.
URL:https://ihtorquay.uk/event/kents-cavern-and-costal-walk-3-2/
LOCATION:Student Lounge\, 15 St Marychurch Road (Torquay International School)\, Torquay\, United Kingdom
ATTACH;FMTTYPE=image/jpeg:https://ihtorquay.uk/wp-content/uploads/2018/03/KENTSCAVERN231117_019.jpg
END:VEVENT
END:VCALENDAR