BEGIN:VCALENDAR
VERSION:2.0
PRODID:-//Torquay International School - ECPv5.14.1//NONSGML v1.0//EN
CALSCALE:GREGORIAN
METHOD:PUBLISH
X-WR-CALNAME:Torquay International School
X-ORIGINAL-URL:https://ihtorquay.uk
X-WR-CALDESC:Events for Torquay International School
BEGIN:VTIMEZONE
TZID:Europe/London
BEGIN:DAYLIGHT
TZOFFSETFROM:+0000
TZOFFSETTO:+0100
TZNAME:BST
DTSTART:20210328T010000
END:DAYLIGHT
BEGIN:STANDARD
TZOFFSETFROM:+0100
TZOFFSETTO:+0000
TZNAME:GMT
DTSTART:20211031T010000
END:STANDARD
END:VTIMEZONE
BEGIN:VEVENT
DTSTART;TZID=Europe/London:20210220T080000
DTEND;TZID=Europe/London:20210220T183000
DTSTAMP:20260420T163024
CREATED:20201109T183519Z
LAST-MODIFIED:20201109T183519Z
UID:2768-1613808000-1613845800@ihtorquay.uk
SUMMARY:Lanhydrock House Cornwall
DESCRIPTION:Lanhydrock\, near Bodmin\, is a magnificent National Trust Victorian country house with extensive servants quarters\, gardens and a wooded estate. After a devastating fire in 1881\, the house was refurbished in the high-Victorian style\, with all the latest modern conveniences of that time. There are 50 rooms to explore – and a wonderful second-hand book shop. It is the perfect country house and estate\, with the feel of a wealthy but unpretentious family home. Follow in the footsteps of generations of the Robartes family\, walking in the 17th-century Long Gallery among the rare book collection under the remarkable plasterwork ceiling.  The kitchens\, nurseries and servants’ quarters offer a thrilling glimpse into life ‘below stairs’\, while the spacious dining room and bedrooms are truly and deeply elegant.\nThe house is set in wooded parkland of 1\,000 acres and encircled by a garden of rare shrubs and trees.
URL:https://ihtorquay.uk/event/lanhydrock-house-cornwall-2-2/
LOCATION:Oriental Touch\, 21 Ash Hill Road\, Torquay\, TQ1 3JF\, United Kingdom
ATTACH;FMTTYPE=image/jpeg:https://ihtorquay.uk/wp-content/uploads/2018/06/Lanhydrok.jpg
END:VEVENT
END:VCALENDAR