BEGIN:VCALENDAR
VERSION:2.0
PRODID:-//Torquay International School - ECPv5.14.1//NONSGML v1.0//EN
CALSCALE:GREGORIAN
METHOD:PUBLISH
X-WR-CALNAME:Torquay International School
X-ORIGINAL-URL:https://ihtorquay.uk
X-WR-CALDESC:Events for Torquay International School
BEGIN:VTIMEZONE
TZID:Europe/London
BEGIN:DAYLIGHT
TZOFFSETFROM:+0000
TZOFFSETTO:+0100
TZNAME:BST
DTSTART:20180325T010000
END:DAYLIGHT
BEGIN:STANDARD
TZOFFSETFROM:+0100
TZOFFSETTO:+0000
TZNAME:GMT
DTSTART:20181028T010000
END:STANDARD
END:VTIMEZONE
BEGIN:VEVENT
DTSTART;TZID=Europe/London:20181129T163000
DTEND;TZID=Europe/London:20181129T173000
DTSTAMP:20260421T153303
CREATED:20181121T155248Z
LAST-MODIFIED:20181121T155345Z
UID:1242-1543509000-1543512600@ihtorquay.uk
SUMMARY:Specialist Talk - Ghosts of Torbay
DESCRIPTION:Join us at the school for a FREE specialist talk by Kevin Dixon. Learn about the famous ghosts and legends of the Bay\, including the rambling sailor of Torre Abbey \nDr Kevin Dixon has lived in Torquay for most of his life and has published several books about the area. He is also the Chair of Healthwatch and is involved health and social care locally. He has an unrivalled knowledge of Torbay\, and his passion is sharing this knowledge with others!
URL:https://ihtorquay.uk/event/school-film-evening-2-2-3-2-2-2-2/
LOCATION:Student Lounge\, 15 St Marychurch Road (Torquay International School)\, Torquay\, United Kingdom
ATTACH;FMTTYPE=image/jpeg:https://ihtorquay.uk/wp-content/uploads/2018/06/elti-meshau-208526-unsplash.jpg
END:VEVENT
END:VCALENDAR