BEGIN:VCALENDAR
VERSION:2.0
PRODID:-//Torquay International School - ECPv5.14.1//NONSGML v1.0//EN
CALSCALE:GREGORIAN
METHOD:PUBLISH
X-WR-CALNAME:Torquay International School
X-ORIGINAL-URL:https://ihtorquay.uk
X-WR-CALDESC:Events for Torquay International School
BEGIN:VTIMEZONE
TZID:Europe/London
BEGIN:DAYLIGHT
TZOFFSETFROM:+0000
TZOFFSETTO:+0100
TZNAME:BST
DTSTART:20210328T010000
END:DAYLIGHT
BEGIN:STANDARD
TZOFFSETFROM:+0100
TZOFFSETTO:+0000
TZNAME:GMT
DTSTART:20211031T010000
END:STANDARD
END:VTIMEZONE
BEGIN:VEVENT
DTSTART;TZID=Europe/London:20211111T130000
DTEND;TZID=Europe/London:20211111T170000
DTSTAMP:20260421T143825
CREATED:20201110T235340Z
LAST-MODIFIED:20201110T235340Z
UID:2961-1636635600-1636650000@ihtorquay.uk
SUMMARY:Sharpham Vineyard
DESCRIPTION:Take a guided tour of this successful English vineyard on the edge of the River Dart which produces a wide variety of English wines and cheeses.  The afternoon will start with a wine and cheese tasting session followed by a walk around the vineyard\, offering panoramic views of the breathtaking Dart Valley.
URL:https://ihtorquay.uk/event/sharpham-vineyard-2-2-2-2-2-3-2-2-2-2-3/
LOCATION:Student Lounge\, 15 St Marychurch Road (Torquay International School)\, Torquay\, United Kingdom
ATTACH;FMTTYPE=image/jpeg:https://ihtorquay.uk/wp-content/uploads/2018/03/geograph-532209-by-Kate-Jewell.jpg
END:VEVENT
END:VCALENDAR