BEGIN:VCALENDAR
VERSION:2.0
PRODID:-//Torquay International School - ECPv5.14.1//NONSGML v1.0//EN
CALSCALE:GREGORIAN
METHOD:PUBLISH
X-WR-CALNAME:Torquay International School
X-ORIGINAL-URL:https://ihtorquay.uk
X-WR-CALDESC:Events for Torquay International School
BEGIN:VTIMEZONE
TZID:Europe/London
BEGIN:DAYLIGHT
TZOFFSETFROM:+0000
TZOFFSETTO:+0100
TZNAME:BST
DTSTART:20240331T010000
END:DAYLIGHT
BEGIN:STANDARD
TZOFFSETFROM:+0100
TZOFFSETTO:+0000
TZNAME:GMT
DTSTART:20241027T010000
END:STANDARD
END:VTIMEZONE
BEGIN:VEVENT
DTSTART;TZID=Europe/London:20240904T140000
DTEND;TZID=Europe/London:20240904T173000
DTSTAMP:20260421T161827
CREATED:20240902T072519Z
LAST-MODIFIED:20240902T072529Z
UID:5201-1725458400-1725471000@ihtorquay.uk
SUMMARY:South Devon Coastal Walk
DESCRIPTION:Enjoy an afternoon trekking along the South Devon coastal path taking in spectacular views of both Torbay and Lyme Bay. \nOur walk today will take us along part of the 185-million-year-old Jurassic Coast\, a UNESCO World Heritage Geopark famous for its dramatic cliffs and beautiful beaches. \nPlease bring sensible walking shoes as you will be walking for around 3 hours.
URL:https://ihtorquay.uk/event/south-devon-coastal-walk-3-3-4-2-2-2-2/
LOCATION:IH Torquay\, International House Torquay\, Torquay\, Devon\, TQ1 3HY\, United Kingdom
ATTACH;FMTTYPE=image/jpeg:https://ihtorquay.uk/wp-content/uploads/2018/04/EDITP1010382.jpg
END:VEVENT
END:VCALENDAR