BEGIN:VCALENDAR
VERSION:2.0
PRODID:-//Torquay International School - ECPv5.14.1//NONSGML v1.0//EN
CALSCALE:GREGORIAN
METHOD:PUBLISH
X-WR-CALNAME:Torquay International School
X-ORIGINAL-URL:https://ihtorquay.uk
X-WR-CALDESC:Events for Torquay International School
BEGIN:VTIMEZONE
TZID:Europe/London
BEGIN:DAYLIGHT
TZOFFSETFROM:+0000
TZOFFSETTO:+0100
TZNAME:BST
DTSTART:20250330T010000
END:DAYLIGHT
BEGIN:STANDARD
TZOFFSETFROM:+0100
TZOFFSETTO:+0000
TZNAME:GMT
DTSTART:20251026T010000
END:STANDARD
END:VTIMEZONE
BEGIN:VEVENT
DTSTART;TZID=Europe/London:20250912T130000
DTEND;TZID=Europe/London:20250912T180000
DTSTAMP:20260421T181211
CREATED:20250905T145621Z
LAST-MODIFIED:20250905T145621Z
UID:5989-1757682000-1757700000@ihtorquay.uk
SUMMARY:Teignmouth\, Dawlish & Dawlish Warren
DESCRIPTION:An afternoon visiting the picturesque coastal towns of Teignmouth\, Dawlish and Dawlish Warren which all started life as Victorian holiday resorts.  See if you can spot the rare black swans on Dawlish water. On the tour\, you’ll hear about rowing boats designed to scare Napoleon\, secret tunnels used to access a smugglers cove\, and a famous syrup used to cure any cough! \n 
URL:https://ihtorquay.uk/event/teignmouth-dawlish-shaldon-7-2-3-2-2-2-2-2-2-2/
LOCATION:Oriental Touch\, 21 Ash Hill Road\, Torquay\, TQ1 3JF\, United Kingdom
ATTACH;FMTTYPE=image/jpeg:https://ihtorquay.uk/wp-content/uploads/2019/02/teignmouth-2232888_960_720.jpg
END:VEVENT
END:VCALENDAR