BEGIN:VCALENDAR
VERSION:2.0
PRODID:-//Torquay International School - ECPv5.14.1//NONSGML v1.0//EN
CALSCALE:GREGORIAN
METHOD:PUBLISH
X-WR-CALNAME:Torquay International School
X-ORIGINAL-URL:https://ihtorquay.uk
X-WR-CALDESC:Events for Torquay International School
BEGIN:VTIMEZONE
TZID:Europe/London
BEGIN:DAYLIGHT
TZOFFSETFROM:+0000
TZOFFSETTO:+0100
TZNAME:BST
DTSTART:20240331T010000
END:DAYLIGHT
BEGIN:STANDARD
TZOFFSETFROM:+0100
TZOFFSETTO:+0000
TZNAME:GMT
DTSTART:20241027T010000
END:STANDARD
END:VTIMEZONE
BEGIN:VEVENT
DTSTART;TZID=Europe/London:20240501T160000
DTEND;TZID=Europe/London:20240501T170000
DTSTAMP:20260420T012156
CREATED:20220321T151520Z
LAST-MODIFIED:20240304T094331Z
UID:3306-1714579200-1714582800@ihtorquay.uk
SUMMARY:Yoga Class
DESCRIPTION:No matter what your age\, ability or experience\, yoga is suitable for everyone. \nYou should wear flexible and comfortable clothing for your stretches. All equipment is provided.
URL:https://ihtorquay.uk/event/yoga-class-6-2/
ATTACH;FMTTYPE=image/jpeg:https://ihtorquay.uk/wp-content/uploads/2018/10/rima-kruciene-671788-unsplash.jpg
END:VEVENT
END:VCALENDAR